BEGIN:VCALENDAR
VERSION:2.0
PRODID:-//Heritage London Foundation - ECPv6.15.14//NONSGML v1.0//EN
CALSCALE:GREGORIAN
METHOD:PUBLISH
X-WR-CALNAME:Heritage London Foundation
X-ORIGINAL-URL:https://heritagelondonfoundation.ca
X-WR-CALDESC:Events for Heritage London Foundation
REFRESH-INTERVAL;VALUE=DURATION:PT1H
X-Robots-Tag:noindex
X-PUBLISHED-TTL:PT1H
BEGIN:VTIMEZONE
TZID:America/New_York
BEGIN:DAYLIGHT
TZOFFSETFROM:-0500
TZOFFSETTO:-0400
TZNAME:EDT
DTSTART:20210314T070000
END:DAYLIGHT
BEGIN:STANDARD
TZOFFSETFROM:-0400
TZOFFSETTO:-0500
TZNAME:EST
DTSTART:20211107T060000
END:STANDARD
BEGIN:DAYLIGHT
TZOFFSETFROM:-0500
TZOFFSETTO:-0400
TZNAME:EDT
DTSTART:20220313T070000
END:DAYLIGHT
BEGIN:STANDARD
TZOFFSETFROM:-0400
TZOFFSETTO:-0500
TZNAME:EST
DTSTART:20221106T060000
END:STANDARD
BEGIN:DAYLIGHT
TZOFFSETFROM:-0500
TZOFFSETTO:-0400
TZNAME:EDT
DTSTART:20230312T070000
END:DAYLIGHT
BEGIN:STANDARD
TZOFFSETFROM:-0400
TZOFFSETTO:-0500
TZNAME:EST
DTSTART:20231105T060000
END:STANDARD
END:VTIMEZONE
BEGIN:VTIMEZONE
TZID:UTC
BEGIN:STANDARD
TZOFFSETFROM:+0000
TZOFFSETTO:+0000
TZNAME:UTC
DTSTART:20180101T000000
END:STANDARD
END:VTIMEZONE
BEGIN:VEVENT
DTSTART;TZID=America/New_York:20221028T190000
DTEND;TZID=America/New_York:20221030T223000
DTSTAMP:20260421T022208
CREATED:20221012T041643Z
LAST-MODIFIED:20221012T041736Z
UID:3354-1666983600-1667169000@heritagelondonfoundation.ca
SUMMARY:Grosvenor’s Haunted Lodge 2022 Presents: Failed Experiments
DESCRIPTION:The annual Halloween event at Grosvenor Lodge is back for 2022! Come and test your will as you venture through the disturbing results of the dark side of science. The new Scare Team is committed to giving you a scare you won’t forget in the best haunted lodge yet. \n\n7pm – 10:30pm\nFriday – Sunday (last two weekends in October)\nGrosvenor Lodge (1017 Western Road\, London\, ON)\nTickets are $17.00\nGroup ticket purchases of 8 or more are $15.00\nAll proceeds go to Heritage London Foundation\n\n  \nTickets and more event details available at www.GrosvenorHauntedLodge.ca. \n*This event is not suitable for children under 12.
URL:https://heritagelondonfoundation.ca/event/grosvenors-haunted-lodge-2022-presents-failed-experiments-part-2/
LOCATION:Grosvenor Lodge\, 1017 Western Rd\, London\, Ontario\, N6G 1G5\, Canada
CATEGORIES:HLF Fundraisers
ATTACH;FMTTYPE=image/jpeg:https://heritagelondonfoundation.ca/wp-content/uploads/2022/10/Halloween_poster_b.jpg
END:VEVENT
BEGIN:VEVENT
DTSTART;TZID=America/New_York:20221021T190000
DTEND;TZID=America/New_York:20221023T223000
DTSTAMP:20260421T022208
CREATED:20221012T041224Z
LAST-MODIFIED:20221012T041741Z
UID:3351-1666378800-1666564200@heritagelondonfoundation.ca
SUMMARY:Grosvenor’s Haunted Lodge 2022 Presents: Failed Experiments
DESCRIPTION:The annual Halloween event at Grosvenor Lodge is back for 2022! Come and test your will as you venture through the disturbing results of the dark side of science. The new Scare Team is committed to giving you a scare you won’t forget in the best haunted lodge yet. \n\n7pm – 10:30pm\nFriday – Sunday (last two weekends in October)\nGrosvenor Lodge (1017 Western Road\, London\, ON)\nTickets are $17.00\nGroup ticket purchases of 8 or more are $15.00\nAll proceeds go to Heritage London Foundation\n\n  \nTickets and more event details available at www.GrosvenorHauntedLodge.ca. \n*This event is not suitable for children under 12.
URL:https://heritagelondonfoundation.ca/event/grosvenors-haunted-lodge-2022-presents-failed-experiments/
LOCATION:Grosvenor Lodge\, 1017 Western Rd\, London\, Ontario\, N6G 1G5\, Canada
CATEGORIES:HLF Fundraisers
ATTACH;FMTTYPE=image/jpeg:https://heritagelondonfoundation.ca/wp-content/uploads/2022/10/Halloween_poster_b.jpg
END:VEVENT
BEGIN:VEVENT
DTSTART;TZID=UTC:20191210T113000
DTEND;TZID=UTC:20191210T143000
DTSTAMP:20260421T022208
CREATED:20190323T024953Z
LAST-MODIFIED:20191205T185232Z
UID:1475-1575977400-1575988200@heritagelondonfoundation.ca
SUMMARY:Victorian Christmas Lunch
DESCRIPTION:Looking for a spot to have a lovely lunch at Christmas?  \nTickets are $25 per person. \nNorth Moore Catering will be serving a delicious hot lunch of traditional turkey\, blistered french beans\, stuffing\, mashed potatoes and freshly baked rolls. There will be Christmas music\, a festive trivia game and we will round out the afternoon with the performance of a Holiday Story. \nHeritage London Foundation asks that you also consider bringing a donation of toys\, books\, or food which we will deliver to the local Salvation Army. The proceeds from ticket sales for this event are in support of Heritage London Foundation. Start your holiday season with an amazing meal\, Christmas music and supporting the growth of local heritage! \nTickets on sale now at: https://www.eventbrite.ca/e/victorian-christmas-luncheon-tickets-83837659697 \nFor more information\, please contact: events@heritagelondonfoundation.ca\, 519-645-2845\, 519-432-6620
URL:https://heritagelondonfoundation.ca/event/victorian-christmas-lunch/
LOCATION:Elsie Perrin Williams Estate\, 101 Windermere Road\, London\, Ontario\, N6G 2J4\, Canada
CATEGORIES:HLF Fundraisers
ATTACH;FMTTYPE=image/jpeg:https://heritagelondonfoundation.ca/wp-content/uploads/2019/03/xmas-lunch-2019-1.jpg
ORGANIZER;CN="Heritage London Foundation":MAILTO:events@heritagelondonfoundation.ca
END:VEVENT
BEGIN:VEVENT
DTSTART;VALUE=DATE:20191025
DTEND;VALUE=DATE:20191031
DTSTAMP:20260421T022208
CREATED:20190323T024910Z
LAST-MODIFIED:20191014T225659Z
UID:1473-1571961600-1572479999@heritagelondonfoundation.ca
SUMMARY:Haunted Mansion
DESCRIPTION:DO YOU DARE?!?!\nHalloween is just around the corner…..\nJoin us for the 2019 Haunted Mansion experience! This self guided tour of our historical property will have you locked in the mansion\, left to complete tasks\, and find clues to help you escape. This 20+ minute experience will include some additions to be announced by the community partners via our Facebook event pages\, a thrilling tour of the property\, and more!  The lights on Kid friendly event\, will take place October 27th\, from noon till 3 p.m. \nThis is a fundraising event for the Heritage London Foundation\, so all proceeds will go towards preserving two historical buildings in the city\, Grosvenor Lodge and the Elsie Perrin Williams Estate. \nAdvanced tickets for the Kid friendly event (on afternoon of 27th) are $10.00\, and advance adult tickets are $15.00. Purchase tickets through Eventbrite\, https://www.eventbrite.ca/e/72648396309 or call 519-432-6620 to buy advance tickets in person! Tickets will also be available at the door for all dates and times for $20.00. \nIf You Dare\, we’ll see you there! \nFor more information\, please contact: events@heritagelondonfoundation.ca\, 519-645-2845\, 519-432-6620
URL:https://heritagelondonfoundation.ca/event/haunted-mansion/
LOCATION:Grosvenor Lodge\, 1017 Western Rd\, London\, Ontario\, N6G 1G5\, Canada
CATEGORIES:HLF Fundraisers
ATTACH;FMTTYPE=image/png:https://heritagelondonfoundation.ca/wp-content/uploads/2019/03/halloween-2019.png
ORGANIZER;CN="Heritage London Foundation":MAILTO:events@heritagelondonfoundation.ca
END:VEVENT
BEGIN:VEVENT
DTSTART;VALUE=DATE:20190818
DTEND;VALUE=DATE:20190819
DTSTAMP:20260421T022208
CREATED:20190323T024735Z
LAST-MODIFIED:20190329T011444Z
UID:1469-1566086400-1566172799@heritagelondonfoundation.ca
SUMMARY:Concert on the Lawn
DESCRIPTION:Join us for our second concert with local musicians.  \nBring your lawn chair. Snacks will be available for purchase.  \nTickets available beginning July 1st\, $20 per person \nFor more information\, please contact: events@heritagelondonfoundation.ca\, 519-645-2845\, 519-432-6620
URL:https://heritagelondonfoundation.ca/event/concert-on-the-lawn/
LOCATION:Elsie Perrin Williams Estate\, 101 Windermere Road\, London\, Ontario\, N6G 2J4\, Canada
CATEGORIES:HLF Fundraisers
ORGANIZER;CN="Heritage London Foundation":MAILTO:events@heritagelondonfoundation.ca
END:VEVENT
BEGIN:VEVENT
DTSTART;VALUE=DATE:20190705
DTEND;VALUE=DATE:20190706
DTSTAMP:20260421T022208
CREATED:20190323T024655Z
LAST-MODIFIED:20190419T000807Z
UID:1467-1562284800-1562371199@heritagelondonfoundation.ca
SUMMARY:Movie on the Lawn
DESCRIPTION:MOVIE TBA \nBring your Lawn Chair and enjoy a movie outdoors\, Snacks will be available for purchase. \n$15 per person \nTickets available beginning June 1st. \nFor more information\, please contact: events@heritagelondonfoundation.ca\, 519-645-2845\, 519-432-6620
URL:https://heritagelondonfoundation.ca/event/movie-on-the-lawn/
LOCATION:Elsie Perrin Williams Estate\, 101 Windermere Road\, London\, Ontario\, N6G 2J4\, Canada
CATEGORIES:HLF Fundraisers
ORGANIZER;CN="Heritage London Foundation":MAILTO:events@heritagelondonfoundation.ca
END:VEVENT
BEGIN:VEVENT
DTSTART;TZID=UTC:20190621T190000
DTEND;TZID=UTC:20190621T220000
DTSTAMP:20260421T022208
CREATED:20190323T024615Z
LAST-MODIFIED:20190601T024824Z
UID:1463-1561143600-1561154400@heritagelondonfoundation.ca
SUMMARY:Summer Solstice Garden Party
DESCRIPTION:Heritage London Foundation regress to inform you that the Summer Solstice Garden Party scheduled for June 21st has been canceled.  \nRefunds have been issued for tickets already purchased.  \nPlease join us for our annual Haunted Mansion at Grosvenor Lodge in October and December 10th or 11th for a Victorian Christmas Luncheon.  \nThank you for your patience.
URL:https://heritagelondonfoundation.ca/event/summer-solstice-garden-party/
LOCATION:Elsie Perrin Williams Estate\, 101 Windermere Road\, London\, Ontario\, N6G 2J4\, Canada
CATEGORIES:HLF Fundraisers
ORGANIZER;CN="Heritage London Foundation":MAILTO:events@heritagelondonfoundation.ca
END:VEVENT
BEGIN:VEVENT
DTSTART;TZID=UTC:20190526T130000
DTEND;TZID=UTC:20190526T150000
DTSTAMP:20260421T022208
CREATED:20190323T024326Z
LAST-MODIFIED:20190419T002903Z
UID:1457-1558875600-1558882800@heritagelondonfoundation.ca
SUMMARY:Spring Tea
DESCRIPTION:Join us for a Traditional Afternoon Tea at Grosvenor Lodge \nTickets $25.00 per person\, $12.00 for children \nTickets available beginning April 1st. \nGet your tickets here: https://www.eventbrite.com/e/spring-afternoon-tea-tickets-60533031928?aff=HLFwebsite \nFor more information\, please contact: events@heritagelondonfoundation.ca\, 519-645-2845
URL:https://heritagelondonfoundation.ca/event/spring-tea/
LOCATION:Grosvenor Lodge\, 1017 Western Rd\, London\, Ontario\, N6G 1G5\, Canada
CATEGORIES:HLF Fundraisers
ORGANIZER;CN="Heritage London Foundation":MAILTO:events@heritagelondonfoundation.ca
END:VEVENT
END:VCALENDAR